BEGIN:VCALENDAR
VERSION:2.0
PRODID:-//Contratero//ES
CALSCALE:GREGORIAN
METHOD:PUBLISH
BEGIN:VEVENT
UID:SU-3/2023@contratero.es
DTSTAMP:20260419T164244Z
DTSTART:20230912T235959
DTEND:20230913T005959
SUMMARY:Cierre: Suministro de equipamiento informático y software 
DESCRIPTION:Suministro de equipamiento informático y software (fase III – 2023)  para los puestos de trabajo digitales de las entidades locales de la provincia de Granada menores de 20.000 habitantes\, susceptible...\\n\\nOrganismo: Presidencia de la Diputación Provincial de Granada\\n\\nVer en Contratero: https://contratero.es/contracts/SU-3/2023
URL:https://contratero.es/contracts/SU-3/2023
STATUS:CONFIRMED
BEGIN:VALARM
TRIGGER:-P1D
ACTION:DISPLAY
DESCRIPTION:Recordatorio: Suministro de equipamiento inf
END:VALARM
END:VEVENT
END:VCALENDAR