BEGIN:VCALENDAR
VERSION:2.0
PRODID:-//Contratero//ES
CALSCALE:GREGORIAN
METHOD:PUBLISH
BEGIN:VEVENT
UID:SU.15/2025SARA-PRTR@contratero.es
DTSTAMP:20260421T185218Z
DTSTART:20250701T235959
DTEND:20250702T005959
SUMMARY:Cierre: Actualización del almacenamiento de objetos y soft
DESCRIPTION:Actualización del almacenamiento de objetos y software de Picasso EN EL MARCO DEL PLAN DE RECUPERACIÓN\, TRANSFORMACIÓN Y RESILIENCIA – FINANCIADO POR LA UNIÓN EUROPEA- NextGenerationEU. ICTS-MRR-2024-...\\n\\nOrganismo: Rectorado de la Universidad de Málaga\\n\\nVer en Contratero: https://contratero.es/contracts/SU.15/2025SARA-PRTR
URL:https://contratero.es/contracts/SU.15/2025SARA-PRTR
STATUS:CONFIRMED
BEGIN:VALARM
TRIGGER:-P1D
ACTION:DISPLAY
DESCRIPTION:Recordatorio: Actualización del almacenamien
END:VALARM
END:VEVENT
END:VCALENDAR