BEGIN:VCALENDAR
VERSION:2.0
PRODID:-//Contratero//ES
CALSCALE:GREGORIAN
METHOD:PUBLISH
BEGIN:VEVENT
UID:SU/13/24@contratero.es
DTSTAMP:20260424T130558Z
DTSTART:20240704T235959
DTEND:20240705T005959
SUMMARY:Cierre: Renovación de la licencia campus del software CYPE
DESCRIPTION:Renovación de la licencia campus del software CYPE\\n\\nOrganismo: Rectorado de la Universidad Jaume I\\n\\nVer en Contratero: https://contratero.es/contracts/SU/13/24
URL:https://contratero.es/contracts/SU/13/24
STATUS:CONFIRMED
BEGIN:VALARM
TRIGGER:-P1D
ACTION:DISPLAY
DESCRIPTION:Recordatorio: Renovación de la licencia camp
END:VALARM
END:VEVENT
END:VCALENDAR