BEGIN:VCALENDAR
VERSION:2.0
PRODID:-//Contratero//ES
CALSCALE:GREGORIAN
METHOD:PUBLISH
BEGIN:VEVENT
UID:SU/16/23@contratero.es
DTSTAMP:20260425T230221Z
DTSTART:20230602T235959
DTEND:20230603T005959
SUMMARY:Cierre: Diferentes licencias software necesarias para el f
DESCRIPTION:Diferentes licencias software necesarias para el funcionamiento y desarrollo de los sistemas de información corporativos de la Universitat Jaume\\n\\nOrganismo: Rectorado de la Universidad Jaume I\\n\\nVer en Contratero: https://contratero.es/contracts/SU/16/23
URL:https://contratero.es/contracts/SU/16/23
STATUS:CONFIRMED
BEGIN:VALARM
TRIGGER:-P1D
ACTION:DISPLAY
DESCRIPTION:Recordatorio: Diferentes licencias software 
END:VALARM
END:VEVENT
END:VCALENDAR