BEGIN:VCALENDAR
VERSION:2.0
PRODID:-//Contratero//ES
CALSCALE:GREGORIAN
METHOD:PUBLISH
BEGIN:VEVENT
UID:SU0022026@contratero.es
DTSTAMP:20260420T011812Z
DTSTART:20260325T235959
DTEND:20260326T005959
SUMMARY:Cierre: Suministro de una licencia de uso ilimitado y sopo
DESCRIPTION:Suministro de una licencia de uso ilimitado y soporte de productos ORACLE\, modalidad "EXTENDIDA PLUS ORACLE"\, para la Universidad de Alicante.\\n\\nOrganismo: Rectorado de la Universidad de Alicante\\n\\nVer en Contratero: https://contratero.es/contracts/SU0022026
URL:https://contratero.es/contracts/SU0022026
STATUS:CONFIRMED
BEGIN:VALARM
TRIGGER:-P1D
ACTION:DISPLAY
DESCRIPTION:Recordatorio: Suministro de una licencia de 
END:VALARM
END:VEVENT
END:VCALENDAR