BEGIN:VCALENDAR
VERSION:2.0
PRODID:-//Contratero//ES
CALSCALE:GREGORIAN
METHOD:PUBLISH
BEGIN:VEVENT
UID:SU0162025@contratero.es
DTSTAMP:20260421T054105Z
DTSTART:20250922T235959
DTEND:20250923T005959
SUMMARY:Cierre: Suministro del software de uso docente CYPE para l
DESCRIPTION:Suministro del software de uso docente CYPE para la Universidad de Alicante\\n\\nOrganismo: Rectorado de la Universidad de Alicante\\n\\nVer en Contratero: https://contratero.es/contracts/SU0162025
URL:https://contratero.es/contracts/SU0162025
STATUS:CONFIRMED
BEGIN:VALARM
TRIGGER:-P1D
ACTION:DISPLAY
DESCRIPTION:Recordatorio: Suministro del software de uso
END:VALARM
END:VEVENT
END:VCALENDAR