BEGIN:VCALENDAR
VERSION:2.0
PRODID:-//Contratero//ES
CALSCALE:GREGORIAN
METHOD:PUBLISH
BEGIN:VEVENT
UID:SU0172025@contratero.es
DTSTAMP:20260422T143740Z
DTSTART:20251126T235959
DTEND:20251127T005959
SUMMARY:Cierre: Suministro de una licencia del software WISEPHERE 
DESCRIPTION:Suministro de una licencia del software WISEPHERE para la Universidad de Alicante.\\n\\nOrganismo: Rectorado de la Universidad de Alicante\\n\\nVer en Contratero: https://contratero.es/contracts/SU0172025
URL:https://contratero.es/contracts/SU0172025
STATUS:CONFIRMED
BEGIN:VALARM
TRIGGER:-P1D
ACTION:DISPLAY
DESCRIPTION:Recordatorio: Suministro de una licencia del
END:VALARM
END:VEVENT
END:VCALENDAR