BEGIN:VCALENDAR
VERSION:2.0
PRODID:-//Contratero//ES
CALSCALE:GREGORIAN
METHOD:PUBLISH
BEGIN:VEVENT
UID:SU13825003931@contratero.es
DTSTAMP:20260422T175217Z
DTSTART:20251121T235959
DTEND:20251122T005959
SUMMARY:Cierre: Plataforma de interoperatibilidad basada en eclips
DESCRIPTION:Plataforma de interoperatibilidad basada en eclipse dataspace connector (edc)\\n\\nOrganismo: Gerencia de la Universidad de Castilla-La Mancha\\n\\nVer en Contratero: https://contratero.es/contracts/SU13825003931
URL:https://contratero.es/contracts/SU13825003931
STATUS:CONFIRMED
BEGIN:VALARM
TRIGGER:-P1D
ACTION:DISPLAY
DESCRIPTION:Recordatorio: Plataforma de interoperatibili
END:VALARM
END:VEVENT
END:VCALENDAR