BEGIN:VCALENDAR
VERSION:2.0
PRODID:-//Contratero//ES
CALSCALE:GREGORIAN
METHOD:PUBLISH
BEGIN:VEVENT
UID:SU30482/2023@contratero.es
DTSTAMP:20260419T145311Z
DTSTART:20240223T235959
DTEND:20240224T005959
SUMMARY:Cierre: suministro de guaguas eléctricas e instalaciones a
DESCRIPTION:suministro de guaguas eléctricas e instalaciones accesorias línea aeropuerto estacion de puerto del rosario.\\n\\nOrganismo: Presidencia del Cabildo de Fuerteventura\\n\\nVer en Contratero: https://contratero.es/contracts/SU30482/2023
URL:https://contratero.es/contracts/SU30482/2023
STATUS:CONFIRMED
BEGIN:VALARM
TRIGGER:-P1D
ACTION:DISPLAY
DESCRIPTION:Recordatorio: suministro de guaguas eléctric
END:VALARM
END:VEVENT
END:VCALENDAR