BEGIN:VCALENDAR
VERSION:2.0
PRODID:-//Contratero//ES
CALSCALE:GREGORIAN
METHOD:PUBLISH
BEGIN:VEVENT
UID:SU58/2025@contratero.es
DTSTAMP:20260419T164503Z
DTSTART:20260205T235959
DTEND:20260206T005959
SUMMARY:Cierre: Suministro y renovación de licencias Presto Multiu
DESCRIPTION:Suministro y renovación de licencias Presto Multiusuario para el Área de Obras\, Urbanismo y Servicios Técnicos del Ayuntamiento de Utrera\\n\\nOrganismo: Alcaldía del Ayuntamiento de Utrera\\n\\nVer en Contratero: https://contratero.es/contracts/SU58/2025
URL:https://contratero.es/contracts/SU58/2025
STATUS:CONFIRMED
BEGIN:VALARM
TRIGGER:-P1D
ACTION:DISPLAY
DESCRIPTION:Recordatorio: Suministro y renovación de lic
END:VALARM
END:VEVENT
END:VCALENDAR