BEGIN:VCALENDAR
VERSION:2.0
PRODID:-//Contratero//ES
CALSCALE:GREGORIAN
METHOD:PUBLISH
BEGIN:VEVENT
UID:SUM-23-0551-EPEM@contratero.es
DTSTAMP:20260424T235706Z
DTSTART:20231121T235959
DTEND:20231122T005959
SUMMARY:Cierre: Suministro de licencia de software para reconocimi
DESCRIPTION:Suministro de licencia de software para reconocimiento de caracteres (OCR) desde imágenes digitalizadas\\n\\nOrganismo: Gerencia umivale Activa\, Mutua Colaboradora con la Seguridad Social número 3\\n\\nVer en Contratero: https://contratero.es/contracts/SUM-23-0551-EPEM
URL:https://contratero.es/contracts/SUM-23-0551-EPEM
STATUS:CONFIRMED
BEGIN:VALARM
TRIGGER:-P1D
ACTION:DISPLAY
DESCRIPTION:Recordatorio: Suministro de licencia de soft
END:VALARM
END:VEVENT
END:VCALENDAR