BEGIN:VCALENDAR
VERSION:2.0
PRODID:-//Contratero//ES
CALSCALE:GREGORIAN
METHOD:PUBLISH
BEGIN:VEVENT
UID:SUM-23-0553-EPEM@contratero.es
DTSTAMP:20260425T014535Z
DTSTART:20231121T235959
DTEND:20231122T005959
SUMMARY:Cierre: Software de pizarra colaborativa MIRO Enterprise p
DESCRIPTION:Software de pizarra colaborativa MIRO Enterprise para umivale Activa\\n\\nOrganismo: Gerencia umivale Activa\, Mutua Colaboradora con la Seguridad Social número 3\\n\\nVer en Contratero: https://contratero.es/contracts/SUM-23-0553-EPEM
URL:https://contratero.es/contracts/SUM-23-0553-EPEM
STATUS:CONFIRMED
BEGIN:VALARM
TRIGGER:-P1D
ACTION:DISPLAY
DESCRIPTION:Recordatorio: Software de pizarra colaborati
END:VALARM
END:VEVENT
END:VCALENDAR