BEGIN:VCALENDAR
VERSION:2.0
PRODID:-//Contratero//ES
CALSCALE:GREGORIAN
METHOD:PUBLISH
BEGIN:VEVENT
UID:SUM-25-0108-MIC@contratero.es
DTSTAMP:20260420T103420Z
DTSTART:20250325T235959
DTEND:20250326T005959
SUMMARY:Cierre: Plataforma de tarjetas de visita virtuales ¿ QR pa
DESCRIPTION:Plataforma de tarjetas de visita virtuales ¿ QR para utilización por los profesionales de umivale Activa\\n\\nOrganismo: Gerencia umivale Activa\, Mutua Colaboradora con la Seguridad Social número 3\\n\\nVer en Contratero: https://contratero.es/contracts/SUM-25-0108-MIC
URL:https://contratero.es/contracts/SUM-25-0108-MIC
STATUS:CONFIRMED
BEGIN:VALARM
TRIGGER:-P1D
ACTION:DISPLAY
DESCRIPTION:Recordatorio: Plataforma de tarjetas de visi
END:VALARM
END:VEVENT
END:VCALENDAR