BEGIN:VCALENDAR
VERSION:2.0
PRODID:-//Contratero//ES
CALSCALE:GREGORIAN
METHOD:PUBLISH
BEGIN:VEVENT
UID:SUM-25-0433-PA@contratero.es
DTSTAMP:20260422T064508Z
DTSTART:20251222T235959
DTEND:20251223T005959
SUMMARY:Cierre: Renovación de licencias de uso Microsoft Dynamics 
DESCRIPTION:Renovación de licencias de uso Microsoft Dynamics AX 2012 R3\\n\\nOrganismo: Gerencia umivale Activa\, Mutua Colaboradora con la Seguridad Social número 3\\n\\nVer en Contratero: https://contratero.es/contracts/SUM-25-0433-PA
URL:https://contratero.es/contracts/SUM-25-0433-PA
STATUS:CONFIRMED
BEGIN:VALARM
TRIGGER:-P1D
ACTION:DISPLAY
DESCRIPTION:Recordatorio: Renovación de licencias de uso
END:VALARM
END:VEVENT
END:VCALENDAR