BEGIN:VCALENDAR
VERSION:2.0
PRODID:-//Contratero//ES
CALSCALE:GREGORIAN
METHOD:PUBLISH
BEGIN:VEVENT
UID:SUM/2023/0000000146@contratero.es
DTSTAMP:20260425T001238Z
DTSTART:20230504T235959
DTEND:20230505T005959
SUMMARY:Cierre: El objeto del presente contrato es el suministro d
DESCRIPTION:El objeto del presente contrato es el suministro de cuarenta y seis (46) licencias de Adobe Acrobat Pro DC for Teams para el personal adscrito a la Consejería de Turismo\, Industria y Comercio del Gobi...\\n\\nOrganismo: Secretaría General Técnica de la Consejería de Turismo\, Industria y Comercio\\n\\nVer en Contratero: https://contratero.es/contracts/SUM/2023/0000000146
URL:https://contratero.es/contracts/SUM/2023/0000000146
STATUS:CONFIRMED
BEGIN:VALARM
TRIGGER:-P1D
ACTION:DISPLAY
DESCRIPTION:Recordatorio: El objeto del presente contrat
END:VALARM
END:VEVENT
END:VCALENDAR