BEGIN:VCALENDAR
VERSION:2.0
PRODID:-//Contratero//ES
CALSCALE:GREGORIAN
METHOD:PUBLISH
BEGIN:VEVENT
UID:SUM/2024/0000000299@contratero.es
DTSTAMP:20260422T133458Z
DTSTART:20240403T235959
DTEND:20240404T005959
SUMMARY:Cierre: Suministro de Licencias VMWare BsPhere.
DESCRIPTION:Suministro de Licencias VMWare BsPhere.\\n\\nOrganismo: Dirección Gerencia Hospital Universitario de Gran Canaria Doctor Negrín\\n\\nVer en Contratero: https://contratero.es/contracts/SUM/2024/0000000299
URL:https://contratero.es/contracts/SUM/2024/0000000299
STATUS:CONFIRMED
BEGIN:VALARM
TRIGGER:-P1D
ACTION:DISPLAY
DESCRIPTION:Recordatorio: Suministro de Licencias VMWare
END:VALARM
END:VEVENT
END:VCALENDAR