BEGIN:VCALENDAR
VERSION:2.0
PRODID:-//Contratero//ES
CALSCALE:GREGORIAN
METHOD:PUBLISH
BEGIN:VEVENT
UID:SUM/2025/0000043160@contratero.es
DTSTAMP:20260422T120926Z
DTSTART:20250401T235959
DTEND:20250402T005959
SUMMARY:Cierre: El objeto del contrato es la renovación de las Lic
DESCRIPTION:El objeto del contrato es la renovación de las Licencias Corporativas Multibase\, para su uso en el Hospital Universitariode Gran Canaria Doctor Negrín. Esta renovación incluye el servicio de mantenimi...\\n\\nOrganismo: Dirección Gerencia Hospital Universitario de Gran Canaria Doctor Negrín\\n\\nVer en Contratero: https://contratero.es/contracts/SUM/2025/0000043160
URL:https://contratero.es/contracts/SUM/2025/0000043160
STATUS:CONFIRMED
BEGIN:VALARM
TRIGGER:-P1D
ACTION:DISPLAY
DESCRIPTION:Recordatorio: El objeto del contrato es la r
END:VALARM
END:VEVENT
END:VCALENDAR