BEGIN:VCALENDAR
VERSION:2.0
PRODID:-//Contratero//ES
CALSCALE:GREGORIAN
METHOD:PUBLISH
BEGIN:VEVENT
UID:SUM/2025/0000068660@contratero.es
DTSTAMP:20260421T174928Z
DTSTART:20250529T235959
DTEND:20250530T005959
SUMMARY:Cierre: El objeto del contrato es la suscripción de licenc
DESCRIPTION:El objeto del contrato es la suscripción de licencias Autodesk\, «Autocad LT»\, para los servicios centrales de la Consejería deEducación\, Formación Profesional\, Actividad Física y Deportes."\\n\\nOrganismo: Secretaría General Técnica de la Consejería de Educación\, Formación Profesional\, Actividad Física y Deportes del Gobierno de Canarias\\n\\nVer en Contratero: https://contratero.es/contracts/SUM/2025/0000068660
URL:https://contratero.es/contracts/SUM/2025/0000068660
STATUS:CONFIRMED
BEGIN:VALARM
TRIGGER:-P1D
ACTION:DISPLAY
DESCRIPTION:Recordatorio: El objeto del contrato es la s
END:VALARM
END:VEVENT
END:VCALENDAR