BEGIN:VCALENDAR
VERSION:2.0
PRODID:-//Contratero//ES
CALSCALE:GREGORIAN
METHOD:PUBLISH
BEGIN:VEVENT
UID:SUM/2025/0000071270@contratero.es
DTSTAMP:20260422T000410Z
DTSTART:20250523T235959
DTEND:20250524T005959
SUMMARY:Cierre: El objeto del presente expediente es la contrataci
DESCRIPTION:El objeto del presente expediente es la contratación de un SUMINISTRO DE LICENCIAS VMWARE VSPHERE\, para el Hospital Universitariode Gran Canaria Dr. Negrín.\\n\\nOrganismo: Dirección Gerencia Hospital Universitario de Gran Canaria Doctor Negrín\\n\\nVer en Contratero: https://contratero.es/contracts/SUM/2025/0000071270
URL:https://contratero.es/contracts/SUM/2025/0000071270
STATUS:CONFIRMED
BEGIN:VALARM
TRIGGER:-P1D
ACTION:DISPLAY
DESCRIPTION:Recordatorio: El objeto del presente expedie
END:VALARM
END:VEVENT
END:VCALENDAR