BEGIN:VCALENDAR
VERSION:2.0
PRODID:-//Contratero//ES
CALSCALE:GREGORIAN
METHOD:PUBLISH
BEGIN:VEVENT
UID:SUM/2025/0000134966@contratero.es
DTSTAMP:20260421T004207Z
DTSTART:20251113T235959
DTEND:20251114T005959
SUMMARY:Cierre: Suministro\, mantenimiento y soporte de licencias O
DESCRIPTION:Suministro\, mantenimiento y soporte de licencias Oracle\, en la modalidad «Licencia de Despliegue Ilimitado» (ULA)\, para laonsejería de Educación\, Formación Profesional\, Actividad Física y Deportes\, co...\\n\\nOrganismo: Consejería de Educación\, Formación Profesional\, Actividad Física y Deportes de Canarias\\n\\nVer en Contratero: https://contratero.es/contracts/SUM/2025/0000134966
URL:https://contratero.es/contracts/SUM/2025/0000134966
STATUS:CONFIRMED
BEGIN:VALARM
TRIGGER:-P1D
ACTION:DISPLAY
DESCRIPTION:Recordatorio: Suministro\, mantenimiento y so
END:VALARM
END:VEVENT
END:VCALENDAR