BEGIN:VCALENDAR
VERSION:2.0
PRODID:-//Contratero//ES
CALSCALE:GREGORIAN
METHOD:PUBLISH
BEGIN:VEVENT
UID:SUMIN-2025000040@contratero.es
DTSTAMP:20260421T002930Z
DTSTART:20251014T235959
DTEND:20251015T005959
SUMMARY:Cierre: Contrato de suministro de la plataforma de gestión
DESCRIPTION:Contrato de suministro de la plataforma de gestión de incidencias y mantenimiento de los espacios públicos y edificios municipales "Granada mejora"\\n\\nOrganismo: Junta de Gobierno del Ayuntamiento de Granada\\n\\nVer en Contratero: https://contratero.es/contracts/SUMIN-2025000040
URL:https://contratero.es/contracts/SUMIN-2025000040
STATUS:CONFIRMED
BEGIN:VALARM
TRIGGER:-P1D
ACTION:DISPLAY
DESCRIPTION:Recordatorio: Contrato de suministro de la p
END:VALARM
END:VEVENT
END:VCALENDAR