BEGIN:VCALENDAR
VERSION:2.0
PRODID:-//Contratero//ES
CALSCALE:GREGORIAN
METHOD:PUBLISH
BEGIN:VEVENT
UID:SUMIN/ABR_SMPL/2023000054@contratero.es
DTSTAMP:20260424T132425Z
DTSTART:20230801T235959
DTEND:20230802T005959
SUMMARY:Cierre: Suministro de una plataforma de comunicación digit
DESCRIPTION:Suministro de una plataforma de comunicación digital "whatsapp"\\n\\nOrganismo: Junta de Gobierno del Ayuntamiento de Elche\\n\\nVer en Contratero: https://contratero.es/contracts/SUMIN/ABR_SMPL/2023000054
URL:https://contratero.es/contracts/SUMIN/ABR_SMPL/2023000054
STATUS:CONFIRMED
BEGIN:VALARM
TRIGGER:-P1D
ACTION:DISPLAY
DESCRIPTION:Recordatorio: Suministro de una plataforma d
END:VALARM
END:VEVENT
END:VCALENDAR