BEGIN:VCALENDAR
VERSION:2.0
PRODID:-//Contratero//ES
CALSCALE:GREGORIAN
METHOD:PUBLISH
BEGIN:VEVENT
UID:SUMIN/NEG_SINP-2023000012@contratero.es
DTSTAMP:20260422T102816Z
DTSTART:20230826T235959
DTEND:20230827T005959
SUMMARY:Cierre: Suministro Mantenimiento base de datos corporativa
DESCRIPTION:Suministro Mantenimiento base de datos corporativa ORACLE\\n\\nOrganismo: Junta de Gobierno del Ayuntamiento de Mazarrón\\n\\nVer en Contratero: https://contratero.es/contracts/SUMIN/NEG_SINP-2023000012
URL:https://contratero.es/contracts/SUMIN/NEG_SINP-2023000012
STATUS:CONFIRMED
BEGIN:VALARM
TRIGGER:-P1D
ACTION:DISPLAY
DESCRIPTION:Recordatorio: Suministro Mantenimiento base 
END:VALARM
END:VEVENT
END:VCALENDAR