BEGIN:VCALENDAR
VERSION:2.0
PRODID:-//Contratero//ES
CALSCALE:GREGORIAN
METHOD:PUBLISH
BEGIN:VEVENT
UID:SV200003@contratero.es
DTSTAMP:20260419T174644Z
DTSTART:20200911T235959
DTEND:20200912T005959
SUMMARY:Cierre: Contratación de prestación de servicios de solucio
DESCRIPTION:Contratación de prestación de servicios de soluciones digitales y ecommerce de Correos.\\n\\nOrganismo: Subdirección de Compras de la Sociedad Estatal Correos y Telégrafos S.A.\\n\\nVer en Contratero: https://contratero.es/contracts/SV200003
URL:https://contratero.es/contracts/SV200003
STATUS:CONFIRMED
BEGIN:VALARM
TRIGGER:-P1D
ACTION:DISPLAY
DESCRIPTION:Recordatorio: Contratación de prestación de 
END:VALARM
END:VEVENT
END:VCALENDAR