BEGIN:VCALENDAR
VERSION:2.0
PRODID:-//Contratero//ES
CALSCALE:GREGORIAN
METHOD:PUBLISH
BEGIN:VEVENT
UID:SV200459@contratero.es
DTSTAMP:20260425T155033Z
DTSTART:20210205T235959
DTEND:20210206T005959
SUMMARY:Cierre: Contratación de servicios de gestión de dominios y
DESCRIPTION:Contratación de servicios de gestión de dominios y certificados en internet del grupo empresarial “grupo correos”.\\n\\nOrganismo: Subdirección de Compras de la Sociedad Estatal Correos y Telégrafos S.A.\\n\\nVer en Contratero: https://contratero.es/contracts/SV200459
URL:https://contratero.es/contracts/SV200459
STATUS:CONFIRMED
BEGIN:VALARM
TRIGGER:-P1D
ACTION:DISPLAY
DESCRIPTION:Recordatorio: Contratación de servicios de g
END:VALARM
END:VEVENT
END:VCALENDAR