BEGIN:VCALENDAR
VERSION:2.0
PRODID:-//Contratero//ES
CALSCALE:GREGORIAN
METHOD:PUBLISH
BEGIN:VEVENT
UID:SV210448@contratero.es
DTSTAMP:20260423T121108Z
DTSTART:20211116T235959
DTEND:20211117T005959
SUMMARY:Cierre: Proveer a Correos de los análisis pertinentes para
DESCRIPTION:Proveer a Correos de los análisis pertinentes para garantizar la calidad de los datos procedentes de las evaluaciones de personal que se realizan dentro de los proyectos de recursos humanos.\\n\\nOrganismo: Subdirección de Compras de la Sociedad Estatal Correos y Telégrafos S.A.\\n\\nVer en Contratero: https://contratero.es/contracts/SV210448
URL:https://contratero.es/contracts/SV210448
STATUS:CONFIRMED
BEGIN:VALARM
TRIGGER:-P1D
ACTION:DISPLAY
DESCRIPTION:Recordatorio: Proveer a Correos de los análi
END:VALARM
END:VEVENT
END:VCALENDAR