BEGIN:VCALENDAR
VERSION:2.0
PRODID:-//Contratero//ES
CALSCALE:GREGORIAN
METHOD:PUBLISH
BEGIN:VEVENT
UID:SVQ-73/2025@contratero.es
DTSTAMP:20260422T183500Z
DTSTART:20251030T235959
DTEND:20251031T005959
SUMMARY:Cierre: Servicio De Procesamiento De Datos En El Software 
DESCRIPTION:Servicio De Procesamiento De Datos En El Software De Gestión De Mantenimiento Y Gestion De Herramienta Siglo En El Aeropuerto De Sevilla\\n\\nOrganismo: Aena. Dirección del Aeropuerto de Sevilla\\n\\nVer en Contratero: https://contratero.es/contracts/SVQ-73/2025
URL:https://contratero.es/contracts/SVQ-73/2025
STATUS:CONFIRMED
BEGIN:VALARM
TRIGGER:-P1D
ACTION:DISPLAY
DESCRIPTION:Recordatorio: Servicio De Procesamiento De D
END:VALARM
END:VEVENT
END:VCALENDAR