BEGIN:VCALENDAR
VERSION:2.0
PRODID:-//Contratero//ES
CALSCALE:GREGORIAN
METHOD:PUBLISH
BEGIN:VEVENT
UID:Sa-7/24@contratero.es
DTSTAMP:20260421T072002Z
DTSTART:20231211T235959
DTEND:20231212T005959
SUMMARY:Cierre: Adquisición de un módulo de registro de asistencia
DESCRIPTION:Adquisición de un módulo de registro de asistencia y un módulo de apertura y acceso de espacio que se pueda integrar en la UAMApp\\n\\nOrganismo: Rectorado de la Universidad Autónoma de Madrid\\n\\nVer en Contratero: https://contratero.es/contracts/Sa-7/24
URL:https://contratero.es/contracts/Sa-7/24
STATUS:CONFIRMED
BEGIN:VALARM
TRIGGER:-P1D
ACTION:DISPLAY
DESCRIPTION:Recordatorio: Adquisición de un módulo de re
END:VALARM
END:VEVENT
END:VCALENDAR