BEGIN:VCALENDAR
VERSION:2.0
PRODID:-//Contratero//ES
CALSCALE:GREGORIAN
METHOD:PUBLISH
BEGIN:VEVENT
UID:Serv.-018/2019@contratero.es
DTSTAMP:20260425T001217Z
DTSTART:20191114T235959
DTEND:20191115T005959
SUMMARY:Cierre: Visor/Editor del callejero digital georeferenciado
DESCRIPTION:Visor/Editor del callejero digital georeferenciado y callejero turístico. Programa 2.14.IT.56/C de los Planes de Asistencia y \nCooperación de los años 2018 y 2019"\\n\\nOrganismo: Presidencia de la Diputación Provincial de Málaga\\n\\nVer en Contratero: https://contratero.es/contracts/Serv.-018/2019
URL:https://contratero.es/contracts/Serv.-018/2019
STATUS:CONFIRMED
BEGIN:VALARM
TRIGGER:-P1D
ACTION:DISPLAY
DESCRIPTION:Recordatorio: Visor/Editor del callejero dig
END:VALARM
END:VEVENT
END:VCALENDAR