BEGIN:VCALENDAR
VERSION:2.0
PRODID:-//Contratero//ES
CALSCALE:GREGORIAN
METHOD:PUBLISH
BEGIN:VEVENT
UID:T/0109/A/22/2@contratero.es
DTSTAMP:20260423T182622Z
DTSTART:20230126T235959
DTEND:20230127T005959
SUMMARY:Cierre: Servicio de acceso a bases de datos especializadas
DESCRIPTION:Servicio de acceso a bases de datos especializadas en ciberinteligencia que\, de\nacuerdo con lo aprobado en el Plan Nacional de Ciberseguridad\, aproveche las ventajas del big data y la\ninteligencia art...\\n\\nOrganismo: Jefatura de Asuntos Económicos de la Guardia Civil\\n\\nVer en Contratero: https://contratero.es/contracts/T/0109/A/22/2
URL:https://contratero.es/contracts/T/0109/A/22/2
STATUS:CONFIRMED
BEGIN:VALARM
TRIGGER:-P1D
ACTION:DISPLAY
DESCRIPTION:Recordatorio: Servicio de acceso a bases de 
END:VALARM
END:VEVENT
END:VCALENDAR