BEGIN:VCALENDAR
VERSION:2.0
PRODID:-//Contratero//ES
CALSCALE:GREGORIAN
METHOD:PUBLISH
BEGIN:VEVENT
UID:T2026.04@contratero.es
DTSTAMP:20260419T183834Z
DTSTART:20260407T235959
DTEND:20260408T005959
SUMMARY:Cierre: Servicio de soporte técnico TIC y refuerzo operati
DESCRIPTION:Servicio de soporte técnico TIC y refuerzo operativo de la infraestructura tecnológica de la Fundación SEPI\, F.S.P.\\n\\nOrganismo: Dirección General de la Fundación SEPI\\n\\nVer en Contratero: https://contratero.es/contracts/T2026.04
URL:https://contratero.es/contracts/T2026.04
STATUS:CONFIRMED
BEGIN:VALARM
TRIGGER:-P1D
ACTION:DISPLAY
DESCRIPTION:Recordatorio: Servicio de soporte técnico TI
END:VALARM
END:VEVENT
END:VCALENDAR