BEGIN:VCALENDAR
VERSION:2.0
PRODID:-//Contratero//ES
CALSCALE:GREGORIAN
METHOD:PUBLISH
BEGIN:VEVENT
UID:TCV10/20@contratero.es
DTSTAMP:20260424T231301Z
DTSTART:20201022T235959
DTEND:20201023T005959
SUMMARY:Cierre: Servicio de un sistema de inteligencia turística d
DESCRIPTION:Servicio de un sistema de inteligencia turística de la Comunitat Valenciana\, Datatur4CV\\n\\nOrganismo: Presidencia de Turisme Comunitat Valenciana\\n\\nVer en Contratero: https://contratero.es/contracts/TCV10/20
URL:https://contratero.es/contracts/TCV10/20
STATUS:CONFIRMED
BEGIN:VALARM
TRIGGER:-P1D
ACTION:DISPLAY
DESCRIPTION:Recordatorio: Servicio de un sistema de inte
END:VALARM
END:VEVENT
END:VCALENDAR