BEGIN:VCALENDAR
VERSION:2.0
PRODID:-//Contratero//ES
CALSCALE:GREGORIAN
METHOD:PUBLISH
BEGIN:VEVENT
UID:TEC00005651@contratero.es
DTSTAMP:20260423T081011Z
DTSTART:20220128T235959
DTEND:20220129T005959
SUMMARY:Cierre: Servicio de soporte a seguridad\, administración y 
DESCRIPTION:Servicio de soporte a seguridad\, administración y desarrollo ERP SAP\\n\\nOrganismo: Tecnologías y Servicios Agrarios S.A.\,S.M.E.\, M.P.\, (TRAGSATEC)\\n\\nVer en Contratero: https://contratero.es/contracts/TEC00005651
URL:https://contratero.es/contracts/TEC00005651
STATUS:CONFIRMED
BEGIN:VALARM
TRIGGER:-P1D
ACTION:DISPLAY
DESCRIPTION:Recordatorio: Servicio de soporte a segurida
END:VALARM
END:VEVENT
END:VCALENDAR