BEGIN:VCALENDAR
VERSION:2.0
PRODID:-//Contratero//ES
CALSCALE:GREGORIAN
METHOD:PUBLISH
BEGIN:VEVENT
UID:TEC00005876-32@contratero.es
DTSTAMP:20260423T001442Z
DTSTART:20240516T235959
DTEND:20240517T005959
SUMMARY:Cierre: Contrato Derivado del Acuerdo Marco para la presta
DESCRIPTION:Contrato Derivado del Acuerdo Marco para la prestación de servicios de desarrollo y mantenimiento de aplicaciones y sistemas de Tragsatec. LOTE 2-DESJAV1: Servicios de Mantenimiento y Desarrollo para ...\\n\\nOrganismo: Tecnologías y Servicios Agrarios S.A.\,S.M.E.\, M.P.\, (TRAGSATEC)\\n\\nVer en Contratero: https://contratero.es/contracts/TEC00005876-32
URL:https://contratero.es/contracts/TEC00005876-32
STATUS:CONFIRMED
BEGIN:VALARM
TRIGGER:-P1D
ACTION:DISPLAY
DESCRIPTION:Recordatorio: Contrato Derivado del Acuerdo 
END:VALARM
END:VEVENT
END:VCALENDAR