BEGIN:VCALENDAR
VERSION:2.0
PRODID:-//Contratero//ES
CALSCALE:GREGORIAN
METHOD:PUBLISH
BEGIN:VEVENT
UID:TEC0006366@contratero.es
DTSTAMP:20260422T130434Z
DTSTART:20240705T235959
DTEND:20240706T005959
SUMMARY:Cierre: Servicio de mantenimiento técnico y gestión de los
DESCRIPTION:Servicio de mantenimiento técnico y gestión de los contenidos de la plataforma digital y de video a demanda del Instituto de la Cinematografía y de las Artes Audiovisuales.\\n\\nOrganismo: Tecnologías y Servicios Agrarios S.A.\,S.M.E.\, M.P.\, (TRAGSATEC)\\n\\nVer en Contratero: https://contratero.es/contracts/TEC0006366
URL:https://contratero.es/contracts/TEC0006366
STATUS:CONFIRMED
BEGIN:VALARM
TRIGGER:-P1D
ACTION:DISPLAY
DESCRIPTION:Recordatorio: Servicio de mantenimiento técn
END:VALARM
END:VEVENT
END:VCALENDAR