BEGIN:VCALENDAR
VERSION:2.0
PRODID:-//Contratero//ES
CALSCALE:GREGORIAN
METHOD:PUBLISH
BEGIN:VEVENT
UID:TEC0006402@contratero.es
DTSTAMP:20260420T201401Z
DTSTART:20240801T235959
DTEND:20240802T005959
SUMMARY:Cierre: Servicio de apoyo para la validación de datos y ca
DESCRIPTION:Servicio de apoyo para la validación de datos y calibración de la red de estaciones agrometeorológicas del cabildo de Tenerife. Trabajos de campo y gabinete.\\n\\nOrganismo: Tecnologías y Servicios Agrarios S.A.\,S.M.E.\, M.P.\, (TRAGSATEC)\\n\\nVer en Contratero: https://contratero.es/contracts/TEC0006402
URL:https://contratero.es/contracts/TEC0006402
STATUS:CONFIRMED
BEGIN:VALARM
TRIGGER:-P1D
ACTION:DISPLAY
DESCRIPTION:Recordatorio: Servicio de apoyo para la vali
END:VALARM
END:VEVENT
END:VCALENDAR