BEGIN:VCALENDAR
VERSION:2.0
PRODID:-//Contratero//ES
CALSCALE:GREGORIAN
METHOD:PUBLISH
BEGIN:VEVENT
UID:TEC0006738@contratero.es
DTSTAMP:20260419T172816Z
DTSTART:20250704T235959
DTEND:20250705T005959
SUMMARY:Cierre: Contratación de un servicio CLOUD para alojar pagi
DESCRIPTION:Contratación de un servicio CLOUD para alojar paginas del grupo HUNOSA .\\n\\nOrganismo: Tecnologías y Servicios Agrarios S.A.\,S.M.E.\, M.P.\, (TRAGSATEC)\\n\\nVer en Contratero: https://contratero.es/contracts/TEC0006738
URL:https://contratero.es/contracts/TEC0006738
STATUS:CONFIRMED
BEGIN:VALARM
TRIGGER:-P1D
ACTION:DISPLAY
DESCRIPTION:Recordatorio: Contratación de un servicio CL
END:VALARM
END:VEVENT
END:VCALENDAR