BEGIN:VCALENDAR
VERSION:2.0
PRODID:-//Contratero//ES
CALSCALE:GREGORIAN
METHOD:PUBLISH
BEGIN:VEVENT
UID:TEC0006855@contratero.es
DTSTAMP:20260422T225401Z
DTSTART:20251227T235959
DTEND:20251228T005959
SUMMARY:Cierre: Contratación de una plataforma educativa para impa
DESCRIPTION:Contratación de una plataforma educativa para impartir cursos en línea dentro del Plan de Riesgos de Protección Civil en centros educativos no universitarios del MEFPD y el MI\\n\\nOrganismo: Tecnologías y Servicios Agrarios S.A.\,S.M.E.\, M.P.\, (TRAGSATEC)\\n\\nVer en Contratero: https://contratero.es/contracts/TEC0006855
URL:https://contratero.es/contracts/TEC0006855
STATUS:CONFIRMED
BEGIN:VALARM
TRIGGER:-P1D
ACTION:DISPLAY
DESCRIPTION:Recordatorio: Contratación de una plataforma
END:VALARM
END:VEVENT
END:VCALENDAR