BEGIN:VCALENDAR
VERSION:2.0
PRODID:-//Contratero//ES
CALSCALE:GREGORIAN
METHOD:PUBLISH
BEGIN:VEVENT
UID:TFN-8/2023@contratero.es
DTSTAMP:20260426T020512Z
DTSTART:20230410T235959
DTEND:20230411T005959
SUMMARY:Cierre: Suministro Complementario A Sistema De Monitorizac
DESCRIPTION:Suministro Complementario A Sistema De Monitorización De Plataforma\\n\\nOrganismo: Aena. Dirección del Aeropuerto de Tenerife Norte\\n\\nVer en Contratero: https://contratero.es/contracts/TFN-8/2023
URL:https://contratero.es/contracts/TFN-8/2023
STATUS:CONFIRMED
BEGIN:VALARM
TRIGGER:-P1D
ACTION:DISPLAY
DESCRIPTION:Recordatorio: Suministro Complementario A Si
END:VALARM
END:VEVENT
END:VCALENDAR