BEGIN:VCALENDAR
VERSION:2.0
PRODID:-//Contratero//ES
CALSCALE:GREGORIAN
METHOD:PUBLISH
BEGIN:VEVENT
UID:TIC-2023-011@contratero.es
DTSTAMP:20260425T145959Z
DTSTART:20230823T235959
DTEND:20230824T005959
SUMMARY:Cierre: Suministro de renovación de Licencias de Software 
DESCRIPTION:Suministro de renovación de Licencias de Software de Monitorización PRTG 500\\n\\nOrganismo: Dirección General de la Fundación para la Investigación del Hospital Universitario de la Fe\\n\\nVer en Contratero: https://contratero.es/contracts/TIC-2023-011
URL:https://contratero.es/contracts/TIC-2023-011
STATUS:CONFIRMED
BEGIN:VALARM
TRIGGER:-P1D
ACTION:DISPLAY
DESCRIPTION:Recordatorio: Suministro de renovación de Li
END:VALARM
END:VEVENT
END:VCALENDAR