BEGIN:VCALENDAR
VERSION:2.0
PRODID:-//Contratero//ES
CALSCALE:GREGORIAN
METHOD:PUBLISH
BEGIN:VEVENT
UID:TRI-25@contratero.es
DTSTAMP:20260420T071840Z
DTSTART:20251013T235959
DTEND:20251014T005959
SUMMARY:Cierre: Servicio de desarrollo de funcionalidades para un 
DESCRIPTION:Servicio de desarrollo de funcionalidades para un gemelo digital existente para dotar de servicios al ecosistema emprendedor rural y marino de la Región de Murcia - Financiado por la Unión Europea-Nex...\\n\\nOrganismo: Fundación Integra\\n\\nVer en Contratero: https://contratero.es/contracts/TRI-25
URL:https://contratero.es/contracts/TRI-25
STATUS:CONFIRMED
BEGIN:VALARM
TRIGGER:-P1D
ACTION:DISPLAY
DESCRIPTION:Recordatorio: Servicio de desarrollo de func
END:VALARM
END:VEVENT
END:VCALENDAR