BEGIN:VCALENDAR
VERSION:2.0
PRODID:-//Contratero//ES
CALSCALE:GREGORIAN
METHOD:PUBLISH
BEGIN:VEVENT
UID:TSA000070942@contratero.es
DTSTAMP:20260424T154944Z
DTSTART:20210629T235959
DTEND:20210630T005959
SUMMARY:Cierre: Suministro de una ampliación de la plataforma de B
DESCRIPTION:Suministro de una ampliación de la plataforma de Backup convergente Cohesity y una ampliación para la plataforma hiperconvergente corporativa del Grupo Tragsa\\n\\nOrganismo: Empresa de Transformación Agraria S.A.\,S.M.E.\, M.P.\, (TRAGSA)\\n\\nVer en Contratero: https://contratero.es/contracts/TSA000070942
URL:https://contratero.es/contracts/TSA000070942
STATUS:CONFIRMED
BEGIN:VALARM
TRIGGER:-P1D
ACTION:DISPLAY
DESCRIPTION:Recordatorio: Suministro de una ampliación d
END:VALARM
END:VEVENT
END:VCALENDAR