BEGIN:VCALENDAR
VERSION:2.0
PRODID:-//Contratero//ES
CALSCALE:GREGORIAN
METHOD:PUBLISH
BEGIN:VEVENT
UID:TSA0077828@contratero.es
DTSTAMP:20260425T135333Z
DTSTART:20240715T235959
DTEND:20240716T005959
SUMMARY:Cierre: Contratación de los servicios de soporte técnico\, 
DESCRIPTION:Contratación de los servicios de soporte técnico\, mantenimiento de licencias\, administración y adaptación de la solución de Gestión de Personas y Cálculo de Nómina (GPCN) actualmente en uso en el Grup...\\n\\nOrganismo: Empresa de Transformación Agraria S.A.\,S.M.E.\, M.P.\, (TRAGSA)\\n\\nVer en Contratero: https://contratero.es/contracts/TSA0077828
URL:https://contratero.es/contracts/TSA0077828
STATUS:CONFIRMED
BEGIN:VALARM
TRIGGER:-P1D
ACTION:DISPLAY
DESCRIPTION:Recordatorio: Contratación de los servicios 
END:VALARM
END:VEVENT
END:VCALENDAR