BEGIN:VCALENDAR
VERSION:2.0
PRODID:-//Contratero//ES
CALSCALE:GREGORIAN
METHOD:PUBLISH
BEGIN:VEVENT
UID:TSA0077948@contratero.es
DTSTAMP:20260422T094042Z
DTSTART:20240905T235959
DTEND:20240906T005959
SUMMARY:Cierre: Contratación de los suministros y servicios para l
DESCRIPTION:Contratación de los suministros y servicios para la implantación y mantenimiento del nuevo sistema de gestión integral de RRHH para el Grupo Tragsa\\n\\nOrganismo: Empresa de Transformación Agraria S.A.\,S.M.E.\, M.P.\, (TRAGSA)\\n\\nVer en Contratero: https://contratero.es/contracts/TSA0077948
URL:https://contratero.es/contracts/TSA0077948
STATUS:CONFIRMED
BEGIN:VALARM
TRIGGER:-P1D
ACTION:DISPLAY
DESCRIPTION:Recordatorio: Contratación de los suministro
END:VALARM
END:VEVENT
END:VCALENDAR