BEGIN:VCALENDAR
VERSION:2.0
PRODID:-//Contratero//ES
CALSCALE:GREGORIAN
METHOD:PUBLISH
BEGIN:VEVENT
UID:TSA0078911@contratero.es
DTSTAMP:20260424T105315Z
DTSTART:20241119T235959
DTEND:20241120T005959
SUMMARY:Cierre: Servicios de Oficina de Gestión de Proyecto (PMO) 
DESCRIPTION:Servicios de Oficina de Gestión de Proyecto (PMO) para apoyar La Ejecución del Contrato de Suministros y Servicios Para la Implantación y Mantenimiento del Nuevo Sistema de Gestión Integral de RRHH\\n\\nOrganismo: Empresa de Transformación Agraria S.A.\,S.M.E.\, M.P.\, (TRAGSA)\\n\\nVer en Contratero: https://contratero.es/contracts/TSA0078911
URL:https://contratero.es/contracts/TSA0078911
STATUS:CONFIRMED
BEGIN:VALARM
TRIGGER:-P1D
ACTION:DISPLAY
DESCRIPTION:Recordatorio: Servicios de Oficina de Gestió
END:VALARM
END:VEVENT
END:VCALENDAR