BEGIN:VCALENDAR
VERSION:2.0
PRODID:-//Contratero//ES
CALSCALE:GREGORIAN
METHOD:PUBLISH
BEGIN:VEVENT
UID:TSA0079594@contratero.es
DTSTAMP:20260421T202006Z
DTSTART:20250225T235959
DTEND:20250226T005959
SUMMARY:Cierre: Contratación del Suministro de Licencias de Despli
DESCRIPTION:Contratación del Suministro de Licencias de Despliegue Ilimitado Para Productos de Software Oracle Incluidos Servicios de Soporte Técnico y Mantenimiento\\n\\nOrganismo: Empresa de Transformación Agraria S.A.\,S.M.E.\, M.P.\, (TRAGSA)\\n\\nVer en Contratero: https://contratero.es/contracts/TSA0079594
URL:https://contratero.es/contracts/TSA0079594
STATUS:CONFIRMED
BEGIN:VALARM
TRIGGER:-P1D
ACTION:DISPLAY
DESCRIPTION:Recordatorio: Contratación del Suministro de
END:VALARM
END:VEVENT
END:VCALENDAR