BEGIN:VCALENDAR
VERSION:2.0
PRODID:-//Contratero//ES
CALSCALE:GREGORIAN
METHOD:PUBLISH
BEGIN:VEVENT
UID:TSA0080073@contratero.es
DTSTAMP:20260422T130356Z
DTSTART:20250529T235959
DTEND:20250530T005959
SUMMARY:Cierre: Contratación de un servicio de gestión de movilida
DESCRIPTION:Contratación de un servicio de gestión de movilidad corporativa: Plataforma de movilidad urbana con vehículos de pasajeros con conductor\, para el desarrollo de las actividades propias del Grupo Tragsa...\\n\\nOrganismo: Empresa de Transformación Agraria S.A.\,S.M.E.\, M.P.\, (TRAGSA)\\n\\nVer en Contratero: https://contratero.es/contracts/TSA0080073
URL:https://contratero.es/contracts/TSA0080073
STATUS:CONFIRMED
BEGIN:VALARM
TRIGGER:-P1D
ACTION:DISPLAY
DESCRIPTION:Recordatorio: Contratación de un servicio de
END:VALARM
END:VEVENT
END:VCALENDAR