BEGIN:VCALENDAR
VERSION:2.0
PRODID:-//Contratero//ES
CALSCALE:GREGORIAN
METHOD:PUBLISH
BEGIN:VEVENT
UID:TSA0080553@contratero.es
DTSTAMP:20260421T171453Z
DTSTART:20250526T235959
DTEND:20250527T005959
SUMMARY:Cierre: Contratación del suministro de licencias del fabri
DESCRIPTION:Contratación del suministro de licencias del fabricante Autodesk para cubrir las necesidades del Grupo Tragsa\, en el Marco del Plan de Recuperación\, Transformación y Resiliencia Financiado por la Unió...\\n\\nOrganismo: Empresa de Transformación Agraria S.A.\,S.M.E.\, M.P.\, (TRAGSA)\\n\\nVer en Contratero: https://contratero.es/contracts/TSA0080553
URL:https://contratero.es/contracts/TSA0080553
STATUS:CONFIRMED
BEGIN:VALARM
TRIGGER:-P1D
ACTION:DISPLAY
DESCRIPTION:Recordatorio: Contratación del suministro de
END:VALARM
END:VEVENT
END:VCALENDAR