BEGIN:VCALENDAR
VERSION:2.0
PRODID:-//Contratero//ES
CALSCALE:GREGORIAN
METHOD:PUBLISH
BEGIN:VEVENT
UID:TSA0081082@contratero.es
DTSTAMP:20260423T103229Z
DTSTART:20251023T235959
DTEND:20251024T005959
SUMMARY:Cierre: Servicio de desarrollo de aplicación web para la v
DESCRIPTION:Servicio de desarrollo de aplicación web para la visualización de indicadores ecohidrológicos en tiempo real para la obra “Proyecto de protección hidrológico-forestal de embalses mediante hidrotecnias...\\n\\nOrganismo: Empresa de Transformación Agraria S.A.\,S.M.E.\, M.P.\, (TRAGSA)\\n\\nVer en Contratero: https://contratero.es/contracts/TSA0081082
URL:https://contratero.es/contracts/TSA0081082
STATUS:CONFIRMED
BEGIN:VALARM
TRIGGER:-P1D
ACTION:DISPLAY
DESCRIPTION:Recordatorio: Servicio de desarrollo de apli
END:VALARM
END:VEVENT
END:VCALENDAR