BEGIN:VCALENDAR
VERSION:2.0
PRODID:-//Contratero//ES
CALSCALE:GREGORIAN
METHOD:PUBLISH
BEGIN:VEVENT
UID:TSA0081609@contratero.es
DTSTAMP:20260419T214353Z
DTSTART:20251107T235959
DTEND:20251108T005959
SUMMARY:Cierre: Renovación y ampliación de licencias de la herrami
DESCRIPTION:Renovación y ampliación de licencias de la herramienta de protección de correo\, servidores y clientes actualmente en servicio en el Grupo Tragsa.\\n\\nOrganismo: Empresa de Transformación Agraria S.A.\,S.M.E.\, M.P.\, (TRAGSA)\\n\\nVer en Contratero: https://contratero.es/contracts/TSA0081609
URL:https://contratero.es/contracts/TSA0081609
STATUS:CONFIRMED
BEGIN:VALARM
TRIGGER:-P1D
ACTION:DISPLAY
DESCRIPTION:Recordatorio: Renovación y ampliación de lic
END:VALARM
END:VEVENT
END:VCALENDAR